BEGIN:VCALENDAR
VERSION:2.0
PRODID:-//ChamberMaster//Event Calendar 2.0//EN
METHOD:PUBLISH
X-PUBLISHED-TTL:P3D
REFRESH-INTERVAL:P3D
CALSCALE:GREGORIAN
BEGIN:VEVENT
DTSTART:20190216T000000Z
DTEND:20190216T020000Z
X-MICROSOFT-CDO-ALLDAYEVENT:FALSE
SUMMARY:Winner takes all! Dragons vs. Panthers Basketball
DESCRIPTION:The Nacogdoches Dragons and Lufkin Panthers will meet at 6 p.m. Friday in a winner-take-all district playoff to determine the 16-5A champion. The game will be held at Nacogdoches High School.\n\n\n\nThe Dragons won their final regular season game Tuesday\, beating Pine Tree 53-50\, to finish 33-5 on the year. Lufkin and Nacogdoches ended the regular season with identical 13-1 marks in District 16-5A.\n\n\n\nVisiting fans attending Friday's game at Nacogdoches High School will park in the bus loop and faculty parking lot (adjacent to Appleby Sand Road) and enter the 9th-grade Building from the bus loop side.\n\n\n\nDragons students and fans will park in student parking (the same side as the Nacogdoches Fire Station) and enter the 9th-grade Building from the west side.\n\n\n\nOnce fans enter the building and purchase a ticket\, they must go through the gym entrance on the same side they entered\, walk up the stairs and sit on the designated "home" and "visitor" sides.\n\n\n\nVisitor seating will be on the north and east side of the gym\; home seating will be on the south and west side of the gym.\n\n\n\nFans will not be allowed to cross the gym floor to get to their seats. Security will be on hand to direct fans to the correct seating.
X-ALT-DESC;FMTTYPE=text/html:The Nacogdoches Dragons and Lufkin Panthers will meet at 6 p.m. Friday in a winner-take-all district playoff to determine the 16-5A champion. The game will be held at Nacogdoches High School.<br />\n<br />\nThe Dragons won their final regular season game Tuesday\, beating Pine Tree 53-50\, to finish 33-5 on the year. Lufkin and Nacogdoches ended the regular season with identical 13-1 marks in District 16-5A.<br />\n<br />\nVisiting fans attending Friday&rsquo\;s game at Nacogdoches High School will park in the bus loop and faculty parking lot (adjacent to Appleby Sand Road) and enter the 9th-grade Building from the bus loop side.<br />\n<br />\nDragons students and fans will park in student parking (the same side as the Nacogdoches Fire Station) and enter the 9th-grade Building from the west side.<br />\n<br />\nOnce fans enter the building and purchase a ticket\, they must go through the gym entrance on the same side they entered\, walk up the stairs and sit on the designated &ldquo\;home&rdquo\; and &ldquo\;visitor&rdquo\; sides.<br />\n<br />\nVisitor seating will be on the north and east side of the gym\; home seating will be on the south and west side of the gym.<br />\n<br />\nFans will not be allowed to cross the gym floor to get to their seats. Security will be on hand to direct fans to the correct seating.
LOCATION:
UID:e.1393.30324
SEQUENCE:3
DTSTAMP:20260420T090007Z
URL:https://business.nacogdoches.org/events/details/winner-takes-all-dragons-vs-panthers-basketball-30324
END:VEVENT

END:VCALENDAR
