BEGIN:VCALENDAR
VERSION:2.0
PRODID:-//ChamberMaster//Event Calendar 2.0//EN
METHOD:PUBLISH
X-PUBLISHED-TTL:P3D
REFRESH-INTERVAL:P3D
CALSCALE:GREGORIAN
BEGIN:VEVENT
DTSTART:20230919T220000Z
DTEND:20230920T000000Z
X-MICROSOFT-CDO-ALLDAYEVENT:FALSE
SUMMARY:Voter Registration Day at the Library
DESCRIPTION:The library is an official Voter Registration site every day\, but on this day we'll have fun games and treats for kids that teach about voting and elections. Kids can vote for their favorite dog or cat book character and adults can register to vote or update their registration!
X-ALT-DESC;FMTTYPE=text/html:The library is an official Voter Registration site every day\, but on this day we&rsquo\;ll have fun games and treats for kids that teach about voting and elections. Kids can vote for their favorite dog or cat book character and adults can register to vote or update their registration!
LOCATION:Nacogdoches Public Library 1112 North Street
UID:e.1393.65227
SEQUENCE:3
DTSTAMP:20260420T024156Z
URL:https://business.nacogdoches.org/events/details/voter-registration-day-at-the-library-65227
END:VEVENT

END:VCALENDAR
