BEGIN:VCALENDAR
VERSION:2.0
PRODID:-//ChamberMaster//Event Calendar 2.0//EN
METHOD:PUBLISH
X-PUBLISHED-TTL:P3D
REFRESH-INTERVAL:P3D
CALSCALE:GREGORIAN
BEGIN:VEVENT
DTSTART:20261117T231500Z
DTEND:20261118T000000Z
X-MICROSOFT-CDO-ALLDAYEVENT:FALSE
SUMMARY:Total Body Strength
DESCRIPTION:Elevate your fitness journey with our Total Body Strength class! Immerse yourself in a dynamic workout experience that targets every muscle group\, promoting strength\, endurance\, and flexibility. Led by experienced instructors\, this class features strength training in a circuit format for a full-body workout. Participants can modify by adjusting the weight and amount of reps. Full instruction and variations are provided as we work through multiple muscle groups with energetic music!
X-ALT-DESC;FMTTYPE=text/html:<span style="color:#512e6d"><span style="font-size:22px"><span style="font-family:times new roman">Elevate your fitness journey with our Total Body Strength class! Immerse yourself in a dynamic workout experience that targets every muscle group\, promoting strength\, endurance\, and flexibility. Led by experienced instructors\, this class features strength training in a circuit format for a full-body workout. Participants can modify by adjusting the weight and amount of reps. Full instruction and variations are provided as we work through multiple muscle groups with energetic music!</span></span></span>
LOCATION:Whole Again Counseling + Wellness\, 1808 South St\, Nacogdoches\, TX 75964\, USA\,
UID:e.1393.89943
SEQUENCE:3
DTSTAMP:20260424T113439Z
URL:https://business.nacogdoches.org/events/details/total-body-strength-11-17-2026-89943
END:VEVENT

END:VCALENDAR
