BEGIN:VCALENDAR
VERSION:2.0
PRODID:-//ChamberMaster//Event Calendar 2.0//EN
METHOD:PUBLISH
X-PUBLISHED-TTL:P3D
REFRESH-INTERVAL:P3D
CALSCALE:GREGORIAN
BEGIN:VEVENT
DTSTART:20190712T220000Z
DTEND:20190713T000000Z
X-MICROSOFT-CDO-ALLDAYEVENT:FALSE
SUMMARY:Sumer Music Series with Bryan Harkness
DESCRIPTION:The 2019 Summer Music Series kicks off with Joe Cuellar on June 14\, poolside at the SFA Rec Pool. Join us for a family friendly evening of music\, swimmin' and grillin'. Don't miss the other shows in our Summer Music Series! Joe Cuellar on June 14 Anna Stockdale on July 19
X-ALT-DESC;FMTTYPE=text/html:The 2019 Summer Music Series kicks off with Joe Cuellar on June 14\, poolside at the SFA Rec Pool. Join us for a family friendly evening of music\, swimmin&#39\; and grillin&#39\;. Don&#39\;t miss the other shows in our Summer Music Series! Joe Cuellar on June 14 Anna Stockdale on July 19
LOCATION:SFA Rec Center Outdoor Pool
UID:e.1393.30860
SEQUENCE:3
DTSTAMP:20260421T123712Z
URL:https://business.nacogdoches.org/events/details/sumer-music-series-with-bryan-harkness-30860
END:VEVENT

END:VCALENDAR
