BEGIN:VCALENDAR
VERSION:2.0
PRODID:-//ChamberMaster//Event Calendar 2.0//EN
METHOD:PUBLISH
X-PUBLISHED-TTL:P3D
REFRESH-INTERVAL:P3D
CALSCALE:GREGORIAN
BEGIN:VEVENT
DTSTART:20191120T160000Z
DTEND:20191120T190000Z
X-MICROSOFT-CDO-ALLDAYEVENT:FALSE
SUMMARY:Story Time & Open Play
DESCRIPTION:Introduce your child to the richness of literature through stories\, songs\, crafts and activities. Story time helps instill a lifelong love of reading\, and it is informative and engaging for parents as well. Following Story Time\, families are encouraged to stick around for games\, crafts\, and time with other kids and parents. Ages 12 years and younger. Free. No registration.
X-ALT-DESC;FMTTYPE=text/html:Introduce your child to the richness of literature through stories\, songs\, crafts and activities. Story time helps instill a lifelong love of reading\, and it is informative and engaging for parents as well. Following Story Time\, families are encouraged to stick around for games\, crafts\, and time with other kids and parents. Ages 12 years and younger. Free. No registration.
LOCATION:Nacogdoches Public Library 1112 North Street Nacogdoches\, TX 75961
UID:e.1393.31715
SEQUENCE:3
DTSTAMP:20260420T065955Z
URL:https://business.nacogdoches.org/events/details/story-time-open-play-11-20-2019-31715
END:VEVENT

END:VCALENDAR
