BEGIN:VCALENDAR
VERSION:2.0
PRODID:-//ChamberMaster//Event Calendar 2.0//EN
METHOD:PUBLISH
X-PUBLISHED-TTL:P3D
REFRESH-INTERVAL:P3D
CALSCALE:GREGORIAN
BEGIN:VEVENT
DTSTART:20190116T160000Z
DTEND:20190116T170000Z
X-MICROSOFT-CDO-ALLDAYEVENT:FALSE
SUMMARY:Story Time
DESCRIPTION:
X-ALT-DESC;FMTTYPE=text/html:
LOCATION:Judy McDonald Public Library 1112 North St.
UID:e.1393.24049
SEQUENCE:3
DTSTAMP:20260420T061704Z
URL:https://business.nacogdoches.org/events/details/story-time-01-16-2019-24049
END:VEVENT

END:VCALENDAR
