BEGIN:VCALENDAR
VERSION:2.0
PRODID:-//ChamberMaster//Event Calendar 2.0//EN
METHOD:PUBLISH
X-PUBLISHED-TTL:P3D
REFRESH-INTERVAL:P3D
CALSCALE:GREGORIAN
BEGIN:VEVENT
DTSTART:20200222T160000Z
DTEND:20200222T170000Z
X-MICROSOFT-CDO-ALLDAYEVENT:FALSE
SUMMARY:Story Hike and Nature Play
DESCRIPTION:Join us as at Pecan Acres Park as we blend literature and nature to create a unique adventure. Through selected readings\, activities\, and hikes\, we will explore the many beautiful trails that spread throughout Nacogdoches. All ages. Free. Please register by the day before the event. ** Please bring your own water bottle. Wear comfortable clothing and shoes at: https://tinyurl.com/twblk6v
X-ALT-DESC;FMTTYPE=text/html:Join us as at Pecan Acres Park as we blend literature and nature to create a unique adventure. Through selected readings\, activities\, and hikes\, we will explore the many beautiful trails that spread throughout Nacogdoches. All ages. Free. Please register by the day before the event. ** Please bring your own water bottle. Wear comfortable clothing and shoes at: https://tinyurl.com/twblk6v
LOCATION:Pecan Acres Park 826 Starr Ave Nacogdoches TX 75961
UID:e.1393.33020
SEQUENCE:3
DTSTAMP:20260422T000905Z
URL:https://business.nacogdoches.org/events/details/story-hike-and-nature-play-33020
END:VEVENT

END:VCALENDAR
