BEGIN:VCALENDAR
VERSION:2.0
PRODID:-//ChamberMaster//Event Calendar 2.0//EN
METHOD:PUBLISH
X-PUBLISHED-TTL:P3D
REFRESH-INTERVAL:P3D
CALSCALE:GREGORIAN
BEGIN:VEVENT
DTSTART:20190629T001500Z
DTEND:20190629T040000Z
X-MICROSOFT-CDO-ALLDAYEVENT:FALSE
SUMMARY:SFA University Nights
DESCRIPTION:Seattle Mariners vs. Houston Astros
X-ALT-DESC;FMTTYPE=text/html:Seattle Mariners vs. Houston Astros
LOCATION:Minute Maid Park Houston\, Tx
UID:e.1393.30853
SEQUENCE:3
DTSTAMP:20260424T025435Z
URL:https://business.nacogdoches.org/events/details/sfa-university-nights-30853
END:VEVENT

END:VCALENDAR
