BEGIN:VCALENDAR
VERSION:2.0
PRODID:-//ChamberMaster//Event Calendar 2.0//EN
METHOD:PUBLISH
X-PUBLISHED-TTL:P3D
REFRESH-INTERVAL:P3D
CALSCALE:GREGORIAN
BEGIN:VEVENT
DTSTART:20190301T153000Z
DTEND:20190301T180000Z
X-MICROSOFT-CDO-ALLDAYEVENT:FALSE
SUMMARY:SFA Spring Teacher Job Expo
DESCRIPTION:Attention SFA Students! The perfect teaching opportunity awaits you! Here is your chance to meet hundreds of education recruiters from across Texas and you don?t even have to leave Nacogdoches! Recruiters from a variety of school districts will participate in this event\, and they are looking to hire SFA?s best! That means you!\n\n\n\nPlease bring your student ID and multiple copies of your resume to share with potential employers!\n\n\n\n**Professional Dress is required
X-ALT-DESC;FMTTYPE=text/html:<span class="event-description">Attention SFA Students! The perfect teaching opportunity awaits you! Here is your chance to meet hundreds of education recruiters from across Texas and you don?t even have to leave Nacogdoches! Recruiters from a variety of school districts will participate in this event\, and they are looking to hire SFA?s best! That means you!<br>\n<br>\nPlease bring your student ID and multiple copies of your resume to share with potential employers!<br>\n<br>\n<strong>**Professional Dress is required</strong></span>
LOCATION:Norton H.P.E. Complex\, Gym
UID:e.1393.27504
SEQUENCE:3
DTSTAMP:20260420T213200Z
URL:https://business.nacogdoches.org/events/details/sfa-spring-teacher-job-expo-27504
END:VEVENT

END:VCALENDAR
