BEGIN:VCALENDAR
VERSION:2.0
PRODID:-//ChamberMaster//Event Calendar 2.0//EN
METHOD:PUBLISH
X-PUBLISHED-TTL:P3D
REFRESH-INTERVAL:P3D
CALSCALE:GREGORIAN
BEGIN:VEVENT
DTSTART:20190914T000000Z
DTEND:20190914T030000Z
X-MICROSOFT-CDO-ALLDAYEVENT:FALSE
SUMMARY:SFA Screens 'The Great Alone'
DESCRIPTION:The Stephen F. Austin State University School of Art and the Friends of the Visual Arts will present a free\, one-night screening of the documentary "The Great Alone" at 7 p.m. Friday\, Sept. 13\, in The Cole Art Center @ The Old Opera House in downtown Nacogdoches. Written and directed by Greg Kohs\, "The Great Alone" is an award-winning feature-length documentary film that captures the inspiring comeback story of champion sled dog racer Lance Mackey. The Cole Art Center is located at 329 E. Main St. For more information\, call (936) 468-1131.
X-ALT-DESC;FMTTYPE=text/html:The Stephen F. Austin State University School of Art and the Friends of the Visual Arts will present a free\, one-night screening of the documentary &quot\;The Great Alone&quot\; at 7 p.m. Friday\, Sept. 13\, in The Cole Art Center @ The Old Opera House in downtown Nacogdoches. Written and directed by Greg Kohs\, &quot\;The Great Alone&quot\; is an award-winning feature-length documentary film that captures the inspiring comeback story of champion sled dog racer Lance Mackey. The Cole Art Center is located at 329 E. Main St. For more information\, call (936) 468-1131.
LOCATION:The Cole Art Center @ The Old Opera House 329 E. Main St. Nacogdoches\, TX 75961
UID:e.1393.31529
SEQUENCE:3
DTSTAMP:20260424T231351Z
URL:https://business.nacogdoches.org/events/details/sfa-screens-the-great-alone-31529
END:VEVENT

END:VCALENDAR
