BEGIN:VCALENDAR
VERSION:2.0
PRODID:-//ChamberMaster//Event Calendar 2.0//EN
METHOD:PUBLISH
X-PUBLISHED-TTL:P3D
REFRESH-INTERVAL:P3D
CALSCALE:GREGORIAN
BEGIN:VEVENT
DTSTART:20190906T003000Z
DTEND:20190906T013000Z
X-MICROSOFT-CDO-ALLDAYEVENT:FALSE
SUMMARY:SFA presents Thomas Nixon faculty recital
DESCRIPTION:The Friends of Music Concert Series at Stephen F. Austin State University opens its 2019-20 season with a faculty piano recital presented by Dr. Thomas Nixon\, staff accompanist in the SFA School of Music\, at 7:30 p.m. Thursday\, Sept. 5\, in Cole Concert Hall on the SFA campus. Nixon will perform works by Wolfgang Amadeus Mozart\, Fredric Chopin\, Alexander Scriagin\, Isaac Albeniz\, Maurice Ravel\, George Gershwin and Earl Wild. Tickets are $8 for adults\, $6 for seniors and $3 for students and youth. For tickets or more information\, call the SFA Fine Arts Box Office at (936) 468-6407 or visit www.finearts.sfasu.edu.
X-ALT-DESC;FMTTYPE=text/html:The Friends of Music Concert Series at Stephen F. Austin State University opens its 2019-20 season with a faculty piano recital presented by Dr. Thomas Nixon\, staff accompanist in the SFA School of Music\, at 7:30 p.m. Thursday\, Sept. 5\, in Cole Concert Hall on the SFA campus. Nixon will perform works by Wolfgang Amadeus Mozart\, Fredric Chopin\, Alexander Scriagin\, Isaac Albeniz\, Maurice Ravel\, George Gershwin and Earl Wild. Tickets are $8 for adults\, $6 for seniors and $3 for students and youth. For tickets or more information\, call the SFA Fine Arts Box Office at (936) 468-6407 or visit www.finearts.sfasu.edu.
LOCATION:Cole Concert Hall\, SFA campus
UID:e.1393.31489
SEQUENCE:3
DTSTAMP:20260422T050354Z
URL:https://business.nacogdoches.org/events/details/sfa-presents-thomas-nixon-faculty-recital-31489
END:VEVENT

END:VCALENDAR
