BEGIN:VCALENDAR
VERSION:2.0
PRODID:-//ChamberMaster//Event Calendar 2.0//EN
METHOD:PUBLISH
X-PUBLISHED-TTL:P3D
REFRESH-INTERVAL:P3D
CALSCALE:GREGORIAN
BEGIN:VEVENT
DTSTART:20190201T153000Z
DTEND:20190201T163000Z
X-MICROSOFT-CDO-ALLDAYEVENT:FALSE
SUMMARY:SFA presents 'I Have a Dream'
DESCRIPTION:The Children's Performing Arts Series at Stephen F. Austin State University will present two performances of the uplifting show "I Have a Dream" on Friday\, Feb. 1. This compelling dramatization of the life and times of Dr. Martin Luther King Jr. will inspire students as they learn about one of the most influential and charismatic leaders of the Civil Rights movement. This deeply moving history lesson presented by Virginia Repertory Theatre is written for children in second through eighth grade. Performances are at 9:30 a.m. and 12:30 p.m. in W.M. Turner Auditorium on the SFA campus. Tickets are $7.50 for individuals and $6 per person for groups of 20 or more. To order tickets\, call (936) 468-6407 or (888) 240-ARTS. Visit the CPAS website at www.cpas.sfasu.edu for additional information.
X-ALT-DESC;FMTTYPE=text/html:The Children&rsquo\;s Performing Arts Series at Stephen F. Austin State University will present two performances of the uplifting show &ldquo\;I Have a Dream&rdquo\; on Friday\, Feb. 1. This compelling dramatization of the life and times of Dr. Martin Luther King Jr. will inspire students as they learn about one of the most influential and charismatic leaders of the Civil Rights movement. This deeply moving history lesson presented by Virginia Repertory Theatre is written for children in second through eighth grade. Performances are at 9:30 a.m. and 12:30 p.m. in W.M. Turner Auditorium on the SFA campus. Tickets are $7.50 for individuals and $6 per person for groups of 20 or more. To order tickets\, call (936) 468-6407 or (888) 240-ARTS. Visit the CPAS website at www.cpas.sfasu.edu for additional information.
LOCATION:W.M. Turner Auditorium on SFA Campus
UID:e.1393.28720
SEQUENCE:3
DTSTAMP:20260420T235141Z
URL:https://business.nacogdoches.org/events/details/sfa-presents-i-have-a-dream-28720
END:VEVENT

END:VCALENDAR
