BEGIN:VCALENDAR
VERSION:2.0
PRODID:-//ChamberMaster//Event Calendar 2.0//EN
METHOD:PUBLISH
X-PUBLISHED-TTL:P3D
REFRESH-INTERVAL:P3D
CALSCALE:GREGORIAN
BEGIN:VEVENT
DTSTART:20181026T160000Z
DTEND:20181026T180000Z
X-MICROSOFT-CDO-ALLDAYEVENT:FALSE
SUMMARY:SFA Plant Sale
DESCRIPTION:Plant sale scheduled for Oct. 26\n\nThe SFA Plantery   a micro-farm\, plant production and teaching garden   is selling a variety of winter annual bedding plants grown by horticulture students. The sale is scheduled from 11 a.m. to 1 p.m. Friday\, Oct. 26\, behind the Agriculture Building at 1924 Wilson Dr.\n\nA diverse selection of pansies\, viola\, alyssum\, erysimum\, dusty miller\, and edible and ornamental vegetables are available in four packs for $3 each or a flat of 48 plants for $32.
X-ALT-DESC;FMTTYPE=text/html:<table align="right" style="float:right!important\;width:270" width="270">\n	<tbody>\n		<tr>\n			<td width="250">&nbsp\;</td>\n		</tr>\n	</tbody>\n</table>\n\n<p class="m_570133816450788409article-text" style="Margin:0\;Margin-bottom:10px\;color:#0a0a0a\;font-family:Helvetica\,Arial\,sans-serif\;font-size:16px\;font-weight:normal\;line-height:160%\;margin:0\;margin-bottom:10px\;padding:0\;text-align:left\;word-break:keep-all\;word-wrap:normal">Plant sale scheduled for Oct. 26</p>\n\n<p class="m_570133816450788409article-text" style="Margin:0\;Margin-bottom:10px\;color:#0a0a0a\;font-family:Helvetica\,Arial\,sans-serif\;font-size:16px\;font-weight:normal\;line-height:160%\;margin:0\;margin-bottom:10px\;padding:0\;text-align:left\;word-break:keep-all\;word-wrap:normal"><span class="m_570133816450788409textleft" style="text-align:left!important">The SFA Plantery &mdash\; a micro-farm\, plant production and teaching garden &mdash\; is selling a variety of winter annual bedding plants grown by horticulture students. The sale is scheduled from 11 a.m. to 1 p.m. Friday\, Oct. 26\, behind the Agriculture Building at 1924 Wilson Dr.</span></p>\n\n<p class="m_570133816450788409article-text" style="Margin:0\;Margin-bottom:10px\;color:#0a0a0a\;font-family:Helvetica\,Arial\,sans-serif\;font-size:16px\;font-weight:normal\;line-height:160%\;margin:0\;margin-bottom:10px\;padding:0\;text-align:left\;word-break:keep-all\;word-wrap:normal"><span class="m_570133816450788409textleft" style="text-align:left!important">A diverse selection of pansies\, viola\, alyssum\, erysimum\, dusty miller\, and edible and ornamental vegetables are available in four packs for $3 each or a flat of 48 plants for $32.</span></p>\n
LOCATION:behind the Agriculture Building at 1924 Wilson Dr.
UID:e.1393.29651
SEQUENCE:3
DTSTAMP:20260421T152148Z
URL:https://business.nacogdoches.org/events/details/sfa-plant-sale-29651
END:VEVENT

END:VCALENDAR
