BEGIN:VCALENDAR
VERSION:2.0
PRODID:-//ChamberMaster//Event Calendar 2.0//EN
METHOD:PUBLISH
X-PUBLISHED-TTL:P3D
REFRESH-INTERVAL:P3D
CALSCALE:GREGORIAN
BEGIN:VEVENT
DTSTART:20190921T200000Z
DTEND:20190922T010000Z
X-MICROSOFT-CDO-ALLDAYEVENT:FALSE
SUMMARY:SFA Hosts Art Exhibition Talks\, Receptions
DESCRIPTION:Two events will take place Saturday\, Sept. 21\, at The Cole Art Center @ The Old Opera House\, Stephen F. Austin State University's historic downtown Nacogdoches art gallery. A reception for "The Color of Grief\," an exhibition that features art created by children attending a youth grief camp through Hospice in the Pines\, is planned for 3 p.m. And at 6 p.m.\, Wesley Berg\, assistant professor of drawing and paining in the School of Art\, will discuss his work in the exhibition "Shadow Plane: Works on Paper by Wesley Berg." Art exhibitions and receptions are sponsored by William Arscott\, The Flower Shop\, the Nacogdoches Junior Forum and the Friends of the Visual Arts. For more information\, call (936) 468-1131.
X-ALT-DESC;FMTTYPE=text/html:Two events will take place Saturday\, Sept. 21\, at The Cole Art Center @ The Old Opera House\, Stephen F. Austin State University&#39\;s historic downtown Nacogdoches art gallery. A reception for &quot\;The Color of Grief\,&quot\; an exhibition that features art created by children attending a youth grief camp through Hospice in the Pines\, is planned for 3 p.m. And at 6 p.m.\, Wesley Berg\, assistant professor of drawing and paining in the School of Art\, will discuss his work in the exhibition &quot\;Shadow Plane: Works on Paper by Wesley Berg.&quot\; Art exhibitions and receptions are sponsored by William Arscott\, The Flower Shop\, the Nacogdoches Junior Forum and the Friends of the Visual Arts. For more information\, call (936) 468-1131.
LOCATION:The Cole Art Center @ The Old Opera House 329 E. Main St. Nacogdoches\, TX 75961
UID:e.1393.31583
SEQUENCE:3
DTSTAMP:20260423T221749Z
URL:https://business.nacogdoches.org/events/details/sfa-hosts-art-exhibition-talks-receptions-31583
END:VEVENT

END:VCALENDAR
