BEGIN:VCALENDAR
VERSION:2.0
PRODID:-//ChamberMaster//Event Calendar 2.0//EN
METHOD:PUBLISH
X-PUBLISHED-TTL:P3D
REFRESH-INTERVAL:P3D
CALSCALE:GREGORIAN
BEGIN:VEVENT
DTSTART:20330713T133000Z
DTEND:20330713T143000Z
X-MICROSOFT-CDO-ALLDAYEVENT:FALSE
SUMMARY:SFA Chamber Connection
DESCRIPTION:SFA Chamber Connection\n\nConnecting decision makers for the university with business and community leaders.
X-ALT-DESC;FMTTYPE=text/html:<b>SFA Chamber Connection</b><br />\nConnecting decision makers for the university with business and community leaders.<br />\n&nbsp\;
LOCATION:
UID:e.1393.72025
SEQUENCE:3
DTSTAMP:20260421T005059Z
URL:https://business.nacogdoches.org/events/details/sfa-chamber-connection-07-13-2033-72025
END:VEVENT

END:VCALENDAR
