BEGIN:VCALENDAR
VERSION:2.0
PRODID:-//ChamberMaster//Event Calendar 2.0//EN
METHOD:PUBLISH
X-PUBLISHED-TTL:P3D
REFRESH-INTERVAL:P3D
CALSCALE:GREGORIAN
BEGIN:VEVENT
DTSTART:20201017T130000Z
DTEND:20201017T220000Z
X-MICROSOFT-CDO-ALLDAYEVENT:FALSE
SUMMARY:Save the Date Walk to End Alzheimers
DESCRIPTION:The Alzheimer's Association Walk to End Alzheimer's is the world's largest fundraiser to fight the disease - we couldn't do it without you.  Thank you for raising critical awareness and funds for Alzheimer's care\, support and research.
X-ALT-DESC;FMTTYPE=text/html:The Alzheimer&#39\;s Association Walk to End Alzheimer&#39\;s is the world&#39\;s largest fundraiser to fight the disease - we couldn&#39\;t do it without you.&nbsp\; Thank you for raising critical awareness and funds for Alzheimer&#39\;s care\, support and research.
LOCATION:
UID:e.1393.34873
SEQUENCE:3
DTSTAMP:20260425T102641Z
URL:https://business.nacogdoches.org/events/details/save-the-date-walk-to-end-alzheimers-34873
END:VEVENT

END:VCALENDAR
