BEGIN:VCALENDAR
VERSION:2.0
PRODID:-//ChamberMaster//Event Calendar 2.0//EN
METHOD:PUBLISH
X-PUBLISHED-TTL:P3D
REFRESH-INTERVAL:P3D
CALSCALE:GREGORIAN
BEGIN:VEVENT
DTSTART:20231108T223000Z
DTEND:20231108T230000Z
X-MICROSOFT-CDO-ALLDAYEVENT:FALSE
SUMMARY:Ribbon Cutting for Excel ER
DESCRIPTION:Ribbon Cutting for Excel ER and Road to Net Zero Award Ceremony!\n\nCelebrating the Grand Re-opening\n\nEnjoy refreshments and prizes after the ceremony!\n\n*The Rusty Spur will provide charcuterie boards for our refreshments\n\n*City Ambulance will be donating door prizes for the event\n\n*M2D will be providing a swag bag for all attendees to take home\n\n\n\nAmbassador Captain:
X-ALT-DESC;FMTTYPE=text/html:Ribbon Cutting for Excel ER and Road to Net Zero Award Ceremony!<br />\nCelebrating the Grand Re-opening<br />\nEnjoy refreshments and prizes after the ceremony!<br />\n*The Rusty Spur will provide charcuterie boards for our refreshments<br />\n*City Ambulance will be donating door prizes for the event<br />\n*M2D will be providing a swag bag for all attendees to take home<br />\n<br />\nAmbassador Captain:
LOCATION:1420 North St.\, Nacogdoches\, TX 75961
UID:e.1393.66815
SEQUENCE:3
DTSTAMP:20260423T110422Z
URL:https://business.nacogdoches.org/events/details/ribbon-cutting-for-excel-er-66815
END:VEVENT

END:VCALENDAR
