BEGIN:VCALENDAR
VERSION:2.0
PRODID:-//ChamberMaster//Event Calendar 2.0//EN
METHOD:PUBLISH
X-PUBLISHED-TTL:P3D
REFRESH-INTERVAL:P3D
CALSCALE:GREGORIAN
BEGIN:VEVENT
DTSTART:20191205T180000Z
DTEND:20191205T190000Z
X-MICROSOFT-CDO-ALLDAYEVENT:FALSE
SUMMARY:Ribbon Cutting for Dr. Laura Welch
DESCRIPTION:Ribbon Cutting for Laura Welch\, MD\n\nCelebrating new internal medicine physician.\n\n\n\nAmbassador Captain:  Mary Mocniak\n\nThe Ambassador committee is sponsored by Farmers Insurance Grace Handler Agency
X-ALT-DESC;FMTTYPE=text/html:<strong>Ribbon Cutting for Laura Welch\, MD</strong><br />\nCelebrating new internal medicine physician.<br />\n<br />\n<span style="font-family:times new roman\,serif\;"><span style="font-size:12.0pt\;">Ambassador Captain: &nbsp\;Mary Mocniak<br />\nThe Ambassador committee is sponsored by Farmers Insurance Grace Handler Agency</span></span>
LOCATION:4848 NE Stallings Dr. Ste. 202
UID:e.1393.31994
SEQUENCE:3
DTSTAMP:20260419T185710Z
URL:https://business.nacogdoches.org/events/details/ribbon-cutting-for-dr-laura-welch-31994
END:VEVENT

END:VCALENDAR
