BEGIN:VCALENDAR
VERSION:2.0
PRODID:-//ChamberMaster//Event Calendar 2.0//EN
METHOD:PUBLISH
X-PUBLISHED-TTL:P3D
REFRESH-INTERVAL:P3D
CALSCALE:GREGORIAN
BEGIN:VEVENT
DTSTART:20260416T213000Z
DTEND:20260416T220000Z
X-MICROSOFT-CDO-ALLDAYEVENT:FALSE
SUMMARY:Ribbon Cutting for Bland 2 Grand
DESCRIPTION:Join us to celebrate Bland 2 Grand's new studio! \n\nEnjoy drinks from The Madhatter Distillery and finger foods from Tom !\n\n\n\nhttps://business.nacogdoches.org/list/member/bland-2-grand-llc-5497
X-ALT-DESC;FMTTYPE=text/html:Join us to celebrate Bland 2 Grand&#39\;s new studio!&nbsp\;<br />\nEnjoy drinks from The Madhatter Distillery and finger foods from Tom&eacute\;!<br />\n<br />\n<a href="https://business.nacogdoches.org/list/member/bland-2-grand-llc-5497">https://business.nacogdoches.org/list/member/bland-2-grand-llc-5497</a><br />\n&nbsp\;
LOCATION:115 North St.
UID:e.1393.88172
SEQUENCE:3
DTSTAMP:20260421T223003Z
URL:https://business.nacogdoches.org/events/details/ribbon-cutting-for-bland-2-grand-88172
END:VEVENT

END:VCALENDAR
