BEGIN:VCALENDAR
VERSION:2.0
PRODID:-//ChamberMaster//Event Calendar 2.0//EN
METHOD:PUBLISH
X-PUBLISHED-TTL:P3D
REFRESH-INTERVAL:P3D
CALSCALE:GREGORIAN
BEGIN:VEVENT
DTSTART:20191215T020000Z
DTEND:20191215T050000Z
X-MICROSOFT-CDO-ALLDAYEVENT:FALSE
SUMMARY:Pancakes with Santa and Mrs. Clause
DESCRIPTION:
X-ALT-DESC;FMTTYPE=text/html:
LOCATION:Mast Hall 317 E. Main St. Nacogdoches\, Tx
UID:e.1393.32708
SEQUENCE:3
DTSTAMP:20260425T004445Z
URL:https://business.nacogdoches.org/events/details/pancakes-with-santa-and-mrs-clause-32708
END:VEVENT

END:VCALENDAR
