BEGIN:VCALENDAR
VERSION:2.0
PRODID:-//ChamberMaster//Event Calendar 2.0//EN
METHOD:PUBLISH
X-PUBLISHED-TTL:P3D
REFRESH-INTERVAL:P3D
CALSCALE:GREGORIAN
BEGIN:VEVENT
DTSTART:20191208T003000Z
DTEND:20191208T020000Z
X-MICROSOFT-CDO-ALLDAYEVENT:FALSE
SUMMARY:Nine Flags Festival Lighted Christmas Parade
DESCRIPTION:LIGHTED CHRISTMAS PARADE Sponsored by Badders Law Firm \n\nSaturday\, December 7\, 2019 Start Time: 6:30 p.m. \n\nFireworks immediately following.\n\nParade Theme: Classic Christmas Movies
X-ALT-DESC;FMTTYPE=text/html:<span style="font-size:12px\;"><span style="font-family:arial\;"><strong><span style="left: 58.6667px\; top: 61.32px\; transform: scaleX(1.07642)\;">LIGHTED</span><span style="left: 204.75px\; top: 61.32px\; transform: scaleX(1.02818)\;"> CHRISTMAS </span><span style="left: 392.467px\; top: 61.32px\; transform: scaleX(1.02319)\;">PARADE </span></strong><span style="left: 58.6667px\; top: 100.698px\; transform: scaleX(0.886966)\;">Sponsored by</span><span style="left: 163.708px\; top: 100.698px\; transform: scaleX(0.907729)\;"> Badders Law </span><span style="left: 265.75px\; top: 100.698px\;">F</span><span style="left: 276.083px\; top: 100.698px\; transform: scaleX(0.989843)\;">irm</span><span style="left: 58.6667px\; top: 130.273px\;"> </span><br />\n<span style="left: 58.6667px\; top: 219.91px\; transform: scaleX(0.899589)\;">Saturday\, December 7\, 2019 </span><span style="left: 58.6667px\; top: 251.96px\; transform: scaleX(0.921328)\;">Start Time: 6:30 p.m. </span><br />\n<span style="left: 271.083px\; top: 251.96px\; transform: scaleX(0.949767)\;">Fireworks immediately following.</span><br />\n<span style="left: 58.6667px\; top: 283.627px\; transform: scaleX(0.874899)\;">Parade Theme: </span><span style="left: 211.083px\; top: 283.627px\; transform: scaleX(1.01014)\;">Cl</span><span style="left: 233.083px\; top: 283.627px\; transform: scaleX(0.869891)\;">assic C</span><span style="left: 299.75px\; top: 283.627px\; transform: scaleX(0.892411)\;">hristmas </span><span style="left: 384.8px\; top: 283.627px\; transform: scaleX(0.943856)\;">Movies</span></span></span><br />\n&nbsp\;
LOCATION:Downtown Nacogdoches
UID:e.1393.31734
SEQUENCE:3
DTSTAMP:20260422T195934Z
URL:https://business.nacogdoches.org/events/details/nine-flags-festival-lighted-christmas-parade-31734
END:VEVENT

END:VCALENDAR
