BEGIN:VCALENDAR
VERSION:2.0
PRODID:-//ChamberMaster//Event Calendar 2.0//EN
METHOD:PUBLISH
X-PUBLISHED-TTL:P3D
REFRESH-INTERVAL:P3D
CALSCALE:GREGORIAN
BEGIN:VEVENT
DTSTART;VALUE=DATE:20230506
DTEND;VALUE=DATE:20230507
TRANSP:TRANSPARENT
X-MICROSOFT-CDO-ALLDAYEVENT:TRUE
SUMMARY:National Small Business Week
DESCRIPTION:National Small Business Week 2023\n\nFor more than 50 years\, the U.S. Small Business Administration (SBA) has celebrated National Small Business Week\, which recognizes the critical contributions of America's entrepreneurs and small business owners. NSBW is co-hosted by SCORE\, mentors to America's small businesses and a resource partner of SBA.
X-ALT-DESC;FMTTYPE=text/html:National Small Business Week 2023<br />\n<span>For more than 50 years\, the U.S. Small Business Administration (SBA) has celebrated National Small Business Week\, which recognizes the critical contributions of America&rsquo\;s entrepreneurs and small business owners. NSBW is co-hosted by SCORE\, mentors to America&#39\;s small businesses and a resource partner of SBA.&nbsp\;</span>
LOCATION:United States of America
UID:e.1393.61191
SEQUENCE:3
DTSTAMP:20260419T212245Z
URL:https://business.nacogdoches.org/events/details/national-small-business-week-05-06-2023-61191
END:VEVENT

END:VCALENDAR
