BEGIN:VCALENDAR
VERSION:2.0
PRODID:-//ChamberMaster//Event Calendar 2.0//EN
METHOD:PUBLISH
X-PUBLISHED-TTL:P3D
REFRESH-INTERVAL:P3D
CALSCALE:GREGORIAN
BEGIN:VEVENT
DTSTART:20200403T003000Z
DTEND:20200403T013000Z
X-MICROSOFT-CDO-ALLDAYEVENT:FALSE
SUMMARY:Mi Cocina Latina: Capirotada (Mexican Bread Pudding)
DESCRIPTION:Learn how to make capirotada\, a traditional Lenten dessert. Please bring a small oven-safe container so that you may finish baking your capirotada at home. Ages 8 years & up. Children must be accompanied by an adult. Free. Please register by the day before the event at: https://tinyurl.com/tadqg6z
X-ALT-DESC;FMTTYPE=text/html:Learn how to make capirotada\, a traditional Lenten dessert. Please bring a small oven-safe container so that you may finish baking your capirotada at home. Ages 8 years &amp\; up. Children must be accompanied by an adult. Free. Please register by the day before the event at: https://tinyurl.com/tadqg6z
LOCATION:Nacogdoches Public Library 1112 North Street Nacogdoches\, TX 75961
UID:e.1393.32899
SEQUENCE:3
DTSTAMP:20260422T181053Z
URL:https://business.nacogdoches.org/events/details/mi-cocina-latina-capirotada-mexican-bread-pudding-04-02-2020-32899
END:VEVENT

END:VCALENDAR
