BEGIN:VCALENDAR
VERSION:2.0
PRODID:-//ChamberMaster//Event Calendar 2.0//EN
METHOD:PUBLISH
X-PUBLISHED-TTL:P3D
REFRESH-INTERVAL:P3D
CALSCALE:GREGORIAN
BEGIN:VEVENT
DTSTART:20250109T200000Z
DTEND:20250109T210000Z
X-MICROSOFT-CDO-ALLDAYEVENT:FALSE
SUMMARY:Member Headshots
DESCRIPTION:Every businessperson needs a professional headshot!\n\nMembers receive one free headshot per year\, but feel free to hire our photographer for more!\n\nRegistration is required to save your spot: http://regis.viewyour.photos/direct/91189/27255376\n\n\n\nOnce registered\, just show up at the Chamber between 2:00 pm and 3:00 pm.
X-ALT-DESC;FMTTYPE=text/html:<span style="font-size:14px\;"><span style="font-size:20px\;"><strong>Every businessperson needs a professional headshot!</strong></span></span><br />\n<span style="font-family:verdana\;">Members receive one free headshot per year\, but feel free to hire our photographer for more!<br />\nRegistration is required to save your spot:<a href="http://regis.viewyour.photos/direct/91189/27255376">&nbsp\;<!--StartFragment--><span data-olk-copy-source="MessageBody">http://regis.viewyour.photos/direct/91189/27255376</span></a><br />\n<br />\nOnce registered\, just show up at the Chamber between 2:00 pm and 3:00 pm.<!--EndFragment--></span><br />\n&nbsp\;
LOCATION:2516 North St.
UID:e.1393.78434
SEQUENCE:3
DTSTAMP:20260422T055217Z
URL:https://business.nacogdoches.org/events/details/member-headshots-78434
END:VEVENT

END:VCALENDAR
