BEGIN:VCALENDAR
VERSION:2.0
PRODID:-//ChamberMaster//Event Calendar 2.0//EN
METHOD:PUBLISH
X-PUBLISHED-TTL:P3D
REFRESH-INTERVAL:P3D
CALSCALE:GREGORIAN
BEGIN:VEVENT
DTSTART:20190115T173000Z
DTEND:20190115T190000Z
X-MICROSOFT-CDO-ALLDAYEVENT:FALSE
SUMMARY:LIFT Meeting
DESCRIPTION:LIFT (Living Information for Today) is a social support group for people who have lost their spouses. It is a great opportunity to socialize and make new friendships. We meet every 3rd Tuesday at Barnhill Steak & Buffet. Please join us to kick off the new year!
X-ALT-DESC;FMTTYPE=text/html:LIFT (Living Information for Today) is a social support group for people who have lost their spouses. It is a great opportunity to socialize and make new friendships. We meet every 3rd Tuesday at Barnhill Steak &amp\; Buffet. Please join us to kick off the new year!
LOCATION:Barnhill Steak & Buffet 3217 North Street Nacogdoches\, TX 75965
UID:e.1393.29989
SEQUENCE:3
DTSTAMP:20260424T073333Z
URL:https://business.nacogdoches.org/events/details/lift-meeting-01-15-2019-29989
END:VEVENT

END:VCALENDAR
