BEGIN:VCALENDAR
VERSION:2.0
PRODID:-//ChamberMaster//Event Calendar 2.0//EN
METHOD:PUBLISH
X-PUBLISHED-TTL:P3D
REFRESH-INTERVAL:P3D
CALSCALE:GREGORIAN
BEGIN:VEVENT
DTSTART:20220629T223000Z
DTEND:20220629T233000Z
X-MICROSOFT-CDO-ALLDAYEVENT:FALSE
SUMMARY:Learn to Make: Charcuterie Boards
DESCRIPTION:Everyone loves a charcuterie board! Learn techniques and recipes that will make your celebratory snack board the envy of the neighborhood! For ages 19 and up.
X-ALT-DESC;FMTTYPE=text/html:Everyone loves a charcuterie board! Learn techniques and recipes that will make your celebratory snack board the envy of the neighborhood! For ages 19 and up.
LOCATION:Nacogdoches Public Library 1112 North Street
UID:e.1393.57009
SEQUENCE:3
DTSTAMP:20260420T204224Z
URL:https://business.nacogdoches.org/events/details/learn-to-make-charcuterie-boards-57009
END:VEVENT

END:VCALENDAR
