BEGIN:VCALENDAR
VERSION:2.0
PRODID:-//ChamberMaster//Event Calendar 2.0//EN
METHOD:PUBLISH
X-PUBLISHED-TTL:P3D
REFRESH-INTERVAL:P3D
CALSCALE:GREGORIAN
BEGIN:VEVENT
DTSTART:20200118T180000Z
DTEND:20200118T193000Z
X-MICROSOFT-CDO-ALLDAYEVENT:FALSE
SUMMARY:Houston MLK Parade-2020
DESCRIPTION:The MLK Youth Parade In Midtown Houston Will Kick Off The 2020 MLK Holiday Weekend. Learn More @ www.mlkgrandeparade.org Or Call 713-953-1633
X-ALT-DESC;FMTTYPE=text/html:The MLK Youth Parade In Midtown Houston Will Kick Off The 2020 MLK Holiday Weekend. Learn More @ www.mlkgrandeparade.org Or Call 713-953-1633
LOCATION:Midtown Houston 1200 Holman Street Houston\, Texas 77004
UID:e.1393.32048
SEQUENCE:3
DTSTAMP:20260425T141101Z
URL:https://business.nacogdoches.org/events/details/houston-mlk-parade-2020-32048
END:VEVENT

END:VCALENDAR
