BEGIN:VCALENDAR
VERSION:2.0
PRODID:-//ChamberMaster//Event Calendar 2.0//EN
METHOD:PUBLISH
X-PUBLISHED-TTL:P3D
REFRESH-INTERVAL:P3D
CALSCALE:GREGORIAN
BEGIN:VEVENT
DTSTART:20231123T233000Z
DTEND:20231124T003000Z
X-MICROSOFT-CDO-ALLDAYEVENT:FALSE
SUMMARY:ESL Conversation Group
DESCRIPTION:Free. Ages 19 years & up. No registration. We practice our English skills by conversing\, reading aloud\, and building vocabulary. This group meets year-round and anyone can join anytime. *No class Sept 28\, Oct 26\, Nov 2 & 23
X-ALT-DESC;FMTTYPE=text/html:Free. Ages 19 years &amp\; up. No registration. We practice our English skills by conversing\, reading aloud\, and building vocabulary. This group meets year-round and anyone can join anytime. *No class Sept 28\, Oct 26\, Nov 2 &amp\; 23
LOCATION:Judy B. McDonald Public Library
UID:e.1393.65331
SEQUENCE:3
DTSTAMP:20260425T224528Z
URL:https://business.nacogdoches.org/events/details/esl-conversation-group-11-23-2023-65331
END:VEVENT

END:VCALENDAR
