BEGIN:VCALENDAR
VERSION:2.0
PRODID:-//ChamberMaster//Event Calendar 2.0//EN
METHOD:PUBLISH
X-PUBLISHED-TTL:P3D
REFRESH-INTERVAL:P3D
CALSCALE:GREGORIAN
BEGIN:VEVENT
DTSTART:20220721T210000Z
DTEND:20220721T230000Z
X-MICROSOFT-CDO-ALLDAYEVENT:FALSE
SUMMARY:Escape Your Bubble: Jumanji
DESCRIPTION:Bring your "bubble" of family or friends (no more than 10 in a group) and solve puzzles and challenges together. Play a life-size round of the crazy game and win\, or else!
X-ALT-DESC;FMTTYPE=text/html:Bring your &quot\;bubble&quot\; of family or friends (no more than 10 in a group) and solve puzzles and challenges together. Play a life-size round of the crazy game and win\, or else!
LOCATION:Nacogdoches Public Library 1112 North Street Nacogdoches\, TX 75961
UID:e.1393.57065
SEQUENCE:3
DTSTAMP:20260424T002803Z
URL:https://business.nacogdoches.org/events/details/escape-your-bubble-jumanji-57065
END:VEVENT

END:VCALENDAR
