BEGIN:VCALENDAR
VERSION:2.0
PRODID:-//ChamberMaster//Event Calendar 2.0//EN
METHOD:PUBLISH
X-PUBLISHED-TTL:P3D
REFRESH-INTERVAL:P3D
CALSCALE:GREGORIAN
BEGIN:VEVENT
DTSTART:20191028T130000Z
DTEND:20191028T220000Z
X-MICROSOFT-CDO-ALLDAYEVENT:FALSE
SUMMARY:Early Voting Schedule - Nacogdoches County
DESCRIPTION:Early Voting Schedule\n\nfor Nov. 5 Joint State Constitutional Amendment and Nacogdoches County Hospital District Election.\n\nClick for more information.
X-ALT-DESC;FMTTYPE=text/html:Early Voting Schedule<br />\nfor Nov. 5 Joint State Constitutional Amendment and Nacogdoches County Hospital District Election.<br />\n<a href="http://co.nacogdoches.tx.us/ElectionInformation/CurrentelectionInformation/01%20%2D%20Early%20Voting%20Schedule%20%2D%202019%20%2D%20November%20%2D%20State%20Constitutional%20Amendment%20and%20Nacogdoches%20County%20Hospital%20District%20Joint%20Election.pdf?v20190905172041" target="_blank">Click for more information</a>.
LOCATION:Courthouse Annex\, 203 W. Main St.\, Nacogdoches TX 75961
UID:e.1393.32054
SEQUENCE:3
DTSTAMP:20260423T085154Z
URL:https://business.nacogdoches.org/events/details/early-voting-schedule-nacogdoches-county-10-28-2019-32054
END:VEVENT

END:VCALENDAR
