BEGIN:VCALENDAR
VERSION:2.0
PRODID:-//ChamberMaster//Event Calendar 2.0//EN
METHOD:PUBLISH
X-PUBLISHED-TTL:P3D
REFRESH-INTERVAL:P3D
CALSCALE:GREGORIAN
BEGIN:VEVENT
DTSTART:20190412T003000Z
DTEND:20190412T023000Z
X-MICROSOFT-CDO-ALLDAYEVENT:FALSE
SUMMARY:Deb Scott trombone recital
DESCRIPTION:Dr. Deb Scott\, professor of trombone at Stephen F. Austin State University\, will present a recital at 7:30 p.m. Thursday\, April 11\, in Cole Concert Hall on the SFA campus. Among the varied works to be featured is "Pearls II" by Roland Szentp li\, a Hungarian composer and world-renowned tuba player. Dr. Ron Petti\, director of accompanying at SFA\, will perform with Scott and will be featured on "Rhapsody" by Michael Schneider. Also included on the recital is one of Arthur Pryor's compositions\, "Annie Laurie." Tickets are $8 for adults\, $6 for seniors and $3 for students and youth. For tickets or more information\, call the SFA Fine Arts Box Office at (936) 468-6407 or visit www.finearts.sfasu.edu.
X-ALT-DESC;FMTTYPE=text/html:Dr. Deb Scott\, professor of trombone at Stephen F. Austin State University\, will present a recital at 7:30 p.m. Thursday\, April 11\, in Cole Concert Hall on the SFA campus. Among the varied works to be featured is &quot\;Pearls II&rdquo\; by Roland&nbsp\;Szentp&aacute\;li\, a Hungarian composer and world-renowned tuba player. Dr. Ron Petti\, director of accompanying at SFA\, will perform with Scott and will be featured on &ldquo\;Rhapsody&rdquo\; by Michael Schneider. Also included on the recital is one of Arthur Pryor&rsquo\;s compositions\, &ldquo\;Annie Laurie.&rdquo\; Tickets are $8 for adults\, $6 for seniors and $3 for students and youth. For tickets or more information\, call the SFA Fine Arts Box Office at (936) 468-6407 or visit www.finearts.sfasu.edu.
LOCATION:Cole Concert Hall on the SFA Campus
UID:e.1393.30647
SEQUENCE:3
DTSTAMP:20260422T160704Z
URL:https://business.nacogdoches.org/events/details/deb-scott-trombone-recital-30647
END:VEVENT

END:VCALENDAR
