BEGIN:VCALENDAR
VERSION:2.0
PRODID:-//ChamberMaster//Event Calendar 2.0//EN
METHOD:PUBLISH
X-PUBLISHED-TTL:P3D
REFRESH-INTERVAL:P3D
CALSCALE:GREGORIAN
BEGIN:VEVENT
DTSTART:20191012T000000Z
DTEND:20191012T020000Z
X-MICROSOFT-CDO-ALLDAYEVENT:FALSE
SUMMARY:Cole Art Center Screening 'Seven Samurai'
DESCRIPTION:The Cole Art Center @ The Old Opera House will partner with the Nacogdoches Public Library and its NEA Big Read Nacogdoches project to present a screening of Akira Kurosawa's 1954 masterpiece\, "Seven Samurai." A free\, one-night screening of the Oscar-nominated film is at 7 p.m. Friday\, Oct. 11\, at Cole Art Center. Refreshments will be provided. The Cole Art Center is Stephen F. Austin State University's historic downtown art gallery\, located at 329 E. Main St. For more information\, call (936) 468-1131.
X-ALT-DESC;FMTTYPE=text/html:The Cole Art Center @ The Old Opera House will partner with the Nacogdoches Public Library and its NEA Big Read Nacogdoches project to present a screening of Akira Kurosawa&#39\;s 1954 masterpiece\, &quot\;Seven Samurai.&quot\; A free\, one-night screening of the Oscar-nominated film is at 7 p.m. Friday\, Oct. 11\, at Cole Art Center. Refreshments will be provided. The Cole Art Center is Stephen F. Austin State University&#39\;s historic downtown art gallery\, located at 329 E. Main St. For more information\, call (936) 468-1131.
LOCATION:Cole Art Center @ The Old Opera House Nacogdoches\, TX 75961
UID:e.1393.31751
SEQUENCE:3
DTSTAMP:20260425T010349Z
URL:https://business.nacogdoches.org/events/details/cole-art-center-screening-seven-samurai-31751
END:VEVENT

END:VCALENDAR
