BEGIN:VCALENDAR
VERSION:2.0
PRODID:-//ChamberMaster//Event Calendar 2.0//EN
METHOD:PUBLISH
X-PUBLISHED-TTL:P3D
REFRESH-INTERVAL:P3D
CALSCALE:GREGORIAN
BEGIN:VEVENT
DTSTART:20190712T213000Z
DTEND:20190712T223000Z
X-MICROSOFT-CDO-ALLDAYEVENT:FALSE
SUMMARY:Cardboard Challenge: Build a Space Rover
DESCRIPTION:Accept the challenge! Using cardboard and duct tape\, construct your version of a space rover that you can then park and watch the Lego Movie: The Second Part. All ages. Please register by the day before the event. You may register online at www.ci.nacogdoches.tx.us/library or call us at (936) 559-2970.
X-ALT-DESC;FMTTYPE=text/html:Accept the challenge! Using cardboard and duct tape\, construct your version of a space rover that you can then park and watch the Lego Movie: The Second Part. All ages. Please register by the day before the event. You may register online at www.ci.nacogdoches.tx.us/library or call us at (936) 559-2970.
LOCATION:Nacogdoches Public Library
UID:e.1393.30945
SEQUENCE:3
DTSTAMP:20260422T112632Z
URL:https://business.nacogdoches.org/events/details/cardboard-challenge-build-a-space-rover-30945
END:VEVENT

END:VCALENDAR
