BEGIN:VCALENDAR
VERSION:2.0
PRODID:-//ChamberMaster//Event Calendar 2.0//EN
METHOD:PUBLISH
X-PUBLISHED-TTL:P3D
REFRESH-INTERVAL:P3D
CALSCALE:GREGORIAN
BEGIN:VEVENT
DTSTART:20181004T123000Z
DTEND:20181004T140000Z
X-MICROSOFT-CDO-ALLDAYEVENT:FALSE
SUMMARY:Candidate Forum 2018
DESCRIPTION:Candiate Forum - Texas House DIstrict 11
X-ALT-DESC;FMTTYPE=text/html:Candiate Forum - Texas House DIstrict 11<br />\n<br />\n&nbsp\;
LOCATION:Fredonia Hotel
UID:e.1393.28751
SEQUENCE:3
DTSTAMP:20260425T024925Z
URL:https://business.nacogdoches.org/events/details/candidate-forum-2018-28751
END:VEVENT

END:VCALENDAR
