BEGIN:VCALENDAR
VERSION:2.0
PRODID:-//ChamberMaster//Event Calendar 2.0//EN
METHOD:PUBLISH
X-PUBLISHED-TTL:P3D
REFRESH-INTERVAL:P3D
CALSCALE:GREGORIAN
BEGIN:VEVENT
DTSTART:20220314T220000Z
DTEND:20220314T230000Z
X-MICROSOFT-CDO-ALLDAYEVENT:FALSE
SUMMARY:Alzheimer’s Education and Support Group
DESCRIPTION:Every second Monday evening at 5 o'clock. Dinner provided.
X-ALT-DESC;FMTTYPE=text/html:Every second Monday evening at 5 o&rsquo\;clock. Dinner provided.
LOCATION:The Arbor
UID:e.1393.55383
SEQUENCE:3
DTSTAMP:20260423T055915Z
URL:https://business.nacogdoches.org/events/details/alzheimer-s-education-and-support-group-03-14-2022-55383
END:VEVENT

END:VCALENDAR
